BEGIN:VCALENDAR
VERSION:2.0
PRODID:-//ACG//Events//EN
CALSCALE:GREGORIAN
METHOD:PUBLISH
BEGIN:VTIMEZONE
TZID:America/Los_Angeles
BEGIN:STANDARD
DTSTART:19701025T090000
TZOFFSETTO:-0800
TZOFFSETFROM:-0700
RRULE:FREQ=YEARLY;BYMONTH=11;BYDAY=1SU
END:STANDARD
BEGIN:DAYLIGHT
DTSTART:19700426T100000
TZOFFSETTO:-0700
TZOFFSETFROM:-0800
RRULE:FREQ=YEARLY;BYMONTH=3;BYDAY=2SU
END:DAYLIGHT
END:VTIMEZONE
BEGIN:VEVENT
UID:ACG-101-JULY-24TH-PE-AND-M-A-GOLF-EVENT
DTSTART;TZID=America/Los_Angeles:20240724T160050
DTEND;TZID=America/Los_Angeles:20240724T200011
STATUS:CONFIRMED
SUMMARY:ACG 101 July 24th PE and M&A Committee Par 3 Golf Event – BY
  INVITATION ONLY
DESCRIPTION:
LOCATION:Lake Lindero Golf Course\n5719 Lake Lindero Drive\nAgoura Hil
 ls\\, CA 91301
URL:https://www.acg.org/101/events/acg-101-july-24th-pe-and-ma-committ
 ee-par-3-golf-event-invitation-only
DTSTAMP:20260423T083745Z
END:VEVENT
END:VCALENDAR
