BEGIN:VCALENDAR
VERSION:2.0
PRODID:-//ACG//Events//EN
CALSCALE:GREGORIAN
METHOD:PUBLISH
BEGIN:VTIMEZONE
TZID:America/Vancouver
BEGIN:STANDARD
DTSTART:19701025T090000
TZOFFSETTO:-0800
TZOFFSETFROM:-0700
RRULE:FREQ=YEARLY;BYMONTH=11;BYDAY=1SU
END:STANDARD
BEGIN:DAYLIGHT
DTSTART:19700426T100000
TZOFFSETTO:-0700
TZOFFSETFROM:-0800
RRULE:FREQ=YEARLY;BYMONTH=3;BYDAY=2SU
END:DAYLIGHT
END:VTIMEZONE
BEGIN:VEVENT
UID:139354
DTSTART;TZID=America/Vancouver:20240718T173000
DTEND;TZID=America/Vancouver:20240718T220000
STATUS:CONFIRMED
SUMMARY:Young ACG Summer Heat Social 2.0
DESCRIPTION:
LOCATION:Brockton Pavilion at Stanley Park\n1151 Stanley Park Drive\nV
 ancouver\\, BC V6G 3E2
URL:https://www.acg.org/bc/events/young-acg-summer-heat-social-20
DTSTAMP:20260425T113044Z
END:VEVENT
END:VCALENDAR
