BEGIN:VCALENDAR
VERSION:2.0
PRODID:-//ACG//Events//EN
CALSCALE:GREGORIAN
METHOD:PUBLISH
BEGIN:VTIMEZONE
TZID:America/New_York
BEGIN:STANDARD
DTSTART:19701025T060000
TZOFFSETTO:-0500
TZOFFSETFROM:-0400
RRULE:FREQ=YEARLY;BYMONTH=11;BYDAY=1SU
END:STANDARD
BEGIN:DAYLIGHT
DTSTART:19700426T070000
TZOFFSETTO:-0400
TZOFFSETFROM:-0500
RRULE:FREQ=YEARLY;BYMONTH=3;BYDAY=2SU
END:DAYLIGHT
END:VTIMEZONE
BEGIN:VEVENT
UID:ABACODE-WEBINAR
DTSTART;TZID=America/New_York:20240717T130055
DTEND;TZID=America/New_York:20240717T140017
STATUS:CONFIRMED
SUMMARY:OP Cybersecurity Series: The Importance of Cyber Diligence in 
 M&A (Webinar)
DESCRIPTION:
LOCATION:Zoom\n
URL:https://www.acg.org/events/op-cybersecurity-series-importance-cybe
 r-diligence-ma-webinar
DTSTAMP:20260420T111625Z
END:VEVENT
END:VCALENDAR
