BEGIN:VCALENDAR
VERSION:2.0
PRODID:-//ACG//Events//EN
CALSCALE:GREGORIAN
METHOD:PUBLISH
BEGIN:VTIMEZONE
TZID:America/New_York
BEGIN:STANDARD
DTSTART:19701025T060000
TZOFFSETTO:-0500
TZOFFSETFROM:-0400
RRULE:FREQ=YEARLY;BYMONTH=11;BYDAY=1SU
END:STANDARD
BEGIN:DAYLIGHT
DTSTART:19700426T070000
TZOFFSETTO:-0400
TZOFFSETFROM:-0500
RRULE:FREQ=YEARLY;BYMONTH=3;BYDAY=2SU
END:DAYLIGHT
END:VTIMEZONE
BEGIN:VEVENT
UID:PARTNER-EVENT-NON-CONTROL-INVESTMENTS-IN-GOVERNMENT-CONTRACTOR-BUS
 INESSES
DTSTART;TZID=America/New_York:20240723T160057
DTEND;TZID=America/New_York:20240723T190010
STATUS:CONFIRMED
SUMMARY:Partner Event: Non-Control Investments in Government Contracto
 r Businesses
DESCRIPTION:
LOCATION:Greenberg Traurig\, Suite 1000\n1750 Tysons Boulevard\nMcLean
 \\, VA 22102
URL:https://www.acg.org/national-capital/events/partner-event-non-cont
 rol-investments-government-contractor-businesses
DTSTAMP:20260425T112925Z
END:VEVENT
END:VCALENDAR
