BEGIN:VCALENDAR
VERSION:2.0
PRODID:-//ACG//Events//EN
CALSCALE:GREGORIAN
METHOD:PUBLISH
BEGIN:VTIMEZONE
TZID:America/New_York
BEGIN:STANDARD
DTSTART:19701025T060000
TZOFFSETTO:-0500
TZOFFSETFROM:-0400
RRULE:FREQ=YEARLY;BYMONTH=11;BYDAY=1SU
END:STANDARD
BEGIN:DAYLIGHT
DTSTART:19700426T070000
TZOFFSETTO:-0400
TZOFFSETFROM:-0500
RRULE:FREQ=YEARLY;BYMONTH=3;BYDAY=2SU
END:DAYLIGHT
END:VTIMEZONE
BEGIN:VEVENT
UID:ACG-NJ-ANGEL-FORUM-BREAKFAST-JULY-17-2024
DTSTART;TZID=America/New_York:20240717T080028
DTEND;TZID=America/New_York:20240717T100042
STATUS:CONFIRMED
SUMMARY:ACG NJ Angel Forum Breakfast July 17\, 2024
DESCRIPTION:
URL:https://www.acg.org/newjersey/events/acg-nj-angel-forum-breakfast-
 july-17-2024
DTSTAMP:20260420T124021Z
END:VEVENT
END:VCALENDAR
