BEGIN:VCALENDAR
VERSION:2.0
PRODID:-//ACG//Events//EN
CALSCALE:GREGORIAN
METHOD:PUBLISH
BEGIN:VTIMEZONE
TZID:America/New_York
BEGIN:STANDARD
DTSTART:19701025T060000
TZOFFSETTO:-0500
TZOFFSETFROM:-0400
RRULE:FREQ=YEARLY;BYMONTH=11;BYDAY=1SU
END:STANDARD
BEGIN:DAYLIGHT
DTSTART:19700426T070000
TZOFFSETTO:-0400
TZOFFSETFROM:-0500
RRULE:FREQ=YEARLY;BYMONTH=3;BYDAY=2SU
END:DAYLIGHT
END:VTIMEZONE
BEGIN:VEVENT
UID:ACG-NJ-ANNUAL-GIVE-BACK-BREAKFAST-DEC-10-2024
DTSTART;TZID=America/New_York:20241210T080030
DTEND;TZID=America/New_York:20241210T103051
STATUS:CONFIRMED
SUMMARY:ACG NJ Annual Holiday Breakfast | Dec. 10\, 2024
DESCRIPTION:
LOCATION:Galloping Hill Golf Course\n3 Golf Drive\nKenilworth\\, NJ 07033
URL:https://www.acg.org/newjersey/events/acg-nj-annual-holiday-breakfa
 st-dec-10-2024
DTSTAMP:20260424T000618Z
END:VEVENT
END:VCALENDAR
