BEGIN:VCALENDAR
VERSION:2.0
PRODID:-//ACG//Events//EN
CALSCALE:GREGORIAN
METHOD:PUBLISH
BEGIN:VTIMEZONE
TZID:America/New_York
BEGIN:STANDARD
DTSTART:19701025T060000
TZOFFSETTO:-0500
TZOFFSETFROM:-0400
RRULE:FREQ=YEARLY;BYMONTH=11;BYDAY=1SU
END:STANDARD
BEGIN:DAYLIGHT
DTSTART:19700426T070000
TZOFFSETTO:-0400
TZOFFSETFROM:-0500
RRULE:FREQ=YEARLY;BYMONTH=3;BYDAY=2SU
END:DAYLIGHT
END:VTIMEZONE
BEGIN:VEVENT
UID:2025-ACG-PHILADELPHIA-FEBRUARY-BREAKFAST-BRIEFING
DTSTART;TZID=America/New_York:20250227T080050
DTEND;TZID=America/New_York:20250227T100011
STATUS:CONFIRMED
SUMMARY:2025 ACG Philadelphia | February Breakfast Briefing - The Grow
 ing Role of the PE Operating Partner
DESCRIPTION:
URL:https://www.acg.org/philadelphia/events/2025-acg-philadelphia-febr
 uary-breakfast-briefing-growing-role-pe-operating
DTSTAMP:20260422T115809Z
END:VEVENT
END:VCALENDAR
