BEGIN:VCALENDAR
VERSION:2.0
PRODID:-//ACG//Events//EN
CALSCALE:GREGORIAN
METHOD:PUBLISH
BEGIN:VTIMEZONE
TZID:America/New_York
BEGIN:STANDARD
DTSTART:19701025T060000
TZOFFSETTO:-0500
TZOFFSETFROM:-0400
RRULE:FREQ=YEARLY;BYMONTH=11;BYDAY=1SU
END:STANDARD
BEGIN:DAYLIGHT
DTSTART:19700426T070000
TZOFFSETTO:-0400
TZOFFSETFROM:-0500
RRULE:FREQ=YEARLY;BYMONTH=3;BYDAY=2SU
END:DAYLIGHT
END:VTIMEZONE
BEGIN:VEVENT
UID:2025-ACG-PHILADELPHIA-SPRING-BREAKFAST-BRIEFING
DTSTART;TZID=America/New_York:20250410T080031
DTEND;TZID=America/New_York:20250410T100047
STATUS:CONFIRMED
SUMMARY:2025 ACG Philadelphia | Spring Breakfast Briefing: Annual Lend
 ers' Panel
DESCRIPTION:
LOCATION:Philadelphia Country Club\n1601 Spring Mill Road\nGladwyne\\,
  PA 19035
URL:https://www.acg.org/philadelphia/events/2025-acg-philadelphia-spri
 ng-breakfast-briefing-annual-lenders-panel
DTSTAMP:20260422T061041Z
END:VEVENT
END:VCALENDAR
