BEGIN:VCALENDAR
VERSION:2.0
PRODID:-//ACG//Events//EN
CALSCALE:GREGORIAN
METHOD:PUBLISH
BEGIN:VTIMEZONE
TZID:US/Eastern
BEGIN:STANDARD
DTSTART:19701025T060000
TZOFFSETTO:-0500
TZOFFSETFROM:-0400
RRULE:FREQ=YEARLY;BYMONTH=11;BYDAY=1SU
END:STANDARD
BEGIN:DAYLIGHT
DTSTART:19700426T070000
TZOFFSETTO:-0400
TZOFFSETFROM:-0500
RRULE:FREQ=YEARLY;BYMONTH=3;BYDAY=2SU
END:DAYLIGHT
END:VTIMEZONE
BEGIN:VEVENT
UID:ACG-NJ-DATA-PRIVACY-JULY-18-2024
DTSTART;TZID=US/Eastern:20240718T080043
DTEND;TZID=US/Eastern:20240718T100000
STATUS:CONFIRMED
SUMMARY:ACG NJ Data Privacy July 18\, 2024
DESCRIPTION:
URL:https://www.acg.org/newjersey/events/acg-nj-data-privacy-july-18-2024
DTSTAMP:20260420T143012Z
END:VEVENT
END:VCALENDAR
