BEGIN:VCALENDAR
VERSION:2.0
PRODID:-//ACG//Events//EN
CALSCALE:GREGORIAN
METHOD:PUBLISH
BEGIN:VTIMEZONE
TZID:Europe/Madrid
BEGIN:STANDARD
DTSTART:19700101T060000
TZOFFSETTO:+0100
TZOFFSETFROM:+0100
END:STANDARD
END:VTIMEZONE
BEGIN:VEVENT
UID:139724
DTSTART;TZID=Europe/Madrid:20240711T194500
DTEND;TZID=Europe/Madrid:20240711T220000
STATUS:CONFIRMED
SUMMARY:CÓCTEL SOCIAL
DESCRIPTION:
LOCATION:A bordo de una Golondrina\n
URL:https://www.acg.org/spain/events/coctel-social-0
DTSTAMP:20260420T111542Z
END:VEVENT
END:VCALENDAR
