BEGIN:VCALENDAR
VERSION:2.0
PRODID:-//ACG//Events//EN
CALSCALE:GREGORIAN
METHOD:PUBLISH
BEGIN:VTIMEZONE
TZID:America/Chicago
BEGIN:STANDARD
DTSTART:19701025T070000
TZOFFSETTO:-0600
TZOFFSETFROM:-0500
RRULE:FREQ=YEARLY;BYMONTH=11;BYDAY=1SU
END:STANDARD
BEGIN:DAYLIGHT
DTSTART:19700426T080000
TZOFFSETTO:-0500
TZOFFSETFROM:-0600
RRULE:FREQ=YEARLY;BYMONTH=3;BYDAY=2SU
END:DAYLIGHT
END:VTIMEZONE
BEGIN:VEVENT
UID:139726
DTSTART;TZID=America/Chicago:20240730T073000
DTEND;TZID=America/Chicago:20240730T093000
STATUS:CONFIRMED
SUMMARY:Celebrate Summer - ACG Chicago\, TMA Chicago/Midwest\, SFNet M
 idwest Breakfast
DESCRIPTION:
LOCATION:Rivers Restaurant\n30 South Wacker Drive\nChicago\\, IL 60606
URL:https://www.acg.org/chicago/events/celebrate-summer-acg-chicago-tm
 a-chicagomidwest-sfnet-midwest-breakfast
DTSTAMP:20260425T123052Z
END:VEVENT
END:VCALENDAR
