BEGIN:VCALENDAR
VERSION:2.0
PRODID:-//ACG//Events//EN
CALSCALE:GREGORIAN
METHOD:PUBLISH
BEGIN:VTIMEZONE
TZID:America/New_York
BEGIN:STANDARD
DTSTART:19701025T060000
TZOFFSETTO:-0500
TZOFFSETFROM:-0400
RRULE:FREQ=YEARLY;BYMONTH=11;BYDAY=1SU
END:STANDARD
BEGIN:DAYLIGHT
DTSTART:19700426T070000
TZOFFSETTO:-0400
TZOFFSETFROM:-0500
RRULE:FREQ=YEARLY;BYMONTH=3;BYDAY=2SU
END:DAYLIGHT
END:VTIMEZONE
BEGIN:VEVENT
UID:2025-ACGWOMEN-PHILADELPHIA-GOLF-PICKLEBALL-OUTING
DTSTART;TZID=America/New_York:20250512T093049
DTEND;TZID=America/New_York:20250512T133049
STATUS:CONFIRMED
SUMMARY:2025 ACGWomen Philadelphia Golf & Pickleball Outing
DESCRIPTION:
LOCATION:Radnor Valley Country Club\n555 Sproul Road\nVillanova\\, PA 19085
URL:https://www.acg.org/philadelphia/events/2025-acgwomen-philadelphia
 -golf-pickleball-outing
DTSTAMP:20260422T015056Z
END:VEVENT
END:VCALENDAR
