BEGIN:VCALENDAR
VERSION:2.0
PRODID:-//ACG//Events//EN
CALSCALE:GREGORIAN
METHOD:PUBLISH
BEGIN:VTIMEZONE
TZID:America/New_York
BEGIN:STANDARD
DTSTART:19701025T060000
TZOFFSETTO:-0500
TZOFFSETFROM:-0400
RRULE:FREQ=YEARLY;BYMONTH=11;BYDAY=1SU
END:STANDARD
BEGIN:DAYLIGHT
DTSTART:19700426T070000
TZOFFSETTO:-0400
TZOFFSETFROM:-0500
RRULE:FREQ=YEARLY;BYMONTH=3;BYDAY=2SU
END:DAYLIGHT
END:VTIMEZONE
BEGIN:VEVENT
UID:ACG-CT-HOLIDAY-PARTY-DECEMBER-2024
DTSTART;TZID=America/New_York:20241209T173045
DTEND;TZID=America/New_York:20241209T200045
STATUS:CONFIRMED
SUMMARY:ACG CT Holiday Party\, December 2024
DESCRIPTION:
LOCATION:Bruce Museum\n1 Museum Drive\nGreenwich\\, CT 06830
URL:https://www.acg.org/connecticut/events/acg-ct-holiday-party-decemb
 er-2024
DTSTAMP:20260424T001310Z
END:VEVENT
END:VCALENDAR
