BEGIN:VCALENDAR
VERSION:2.0
PRODID:-//ACG//Events//EN
CALSCALE:GREGORIAN
METHOD:PUBLISH
BEGIN:VTIMEZONE
TZID:America/Chicago
BEGIN:STANDARD
DTSTART:19701025T070000
TZOFFSETTO:-0600
TZOFFSETFROM:-0500
RRULE:FREQ=YEARLY;BYMONTH=11;BYDAY=1SU
END:STANDARD
BEGIN:DAYLIGHT
DTSTART:19700426T080000
TZOFFSETTO:-0500
TZOFFSETFROM:-0600
RRULE:FREQ=YEARLY;BYMONTH=3;BYDAY=2SU
END:DAYLIGHT
END:VTIMEZONE
BEGIN:VEVENT
UID:2024-ACG-ASA-S-AWARDS-TOAST-TO-PE-VC-RECEPTION
DTSTART;TZID=America/Chicago:20240926T180029
DTEND;TZID=America/Chicago:20240926T200043
STATUS:CONFIRMED
SUMMARY:2024 ACG ASA's Awards & Toast to PE/VC Reception
DESCRIPTION:
LOCATION:Westwood Country Club\n3808 West 35th Street\nAustin\\, TX 78703
URL:https://www.acg.org/asa/events/2024-acg-asas-awards-toast-pevc-rec
 eption
DTSTAMP:20260424T192153Z
END:VEVENT
END:VCALENDAR
