BEGIN:VCALENDAR
VERSION:2.0
PRODID:-//ACG//Events//EN
CALSCALE:GREGORIAN
METHOD:PUBLISH
BEGIN:VTIMEZONE
TZID:America/Chicago
BEGIN:STANDARD
DTSTART:19701025T070000
TZOFFSETTO:-0600
TZOFFSETFROM:-0500
RRULE:FREQ=YEARLY;BYMONTH=11;BYDAY=1SU
END:STANDARD
BEGIN:DAYLIGHT
DTSTART:19700426T080000
TZOFFSETTO:-0500
TZOFFSETFROM:-0600
RRULE:FREQ=YEARLY;BYMONTH=3;BYDAY=2SU
END:DAYLIGHT
END:VTIMEZONE
BEGIN:VEVENT
UID:2025-ACG-WI-SCOTT-LAUBER-CEO-WEC-ENERGY-GROUP
DTSTART;TZID=America/Chicago:20250509T111510
DTEND;TZID=America/Chicago:20250509T131529
STATUS:CONFIRMED
SUMMARY:2025 ACG WI | Scott Lauber\, CEO\, WEC Energy Group
DESCRIPTION:
LOCATION:Italian Community Center\n631 East Chicago Street\nMilwaukee\
 \, WI 53202
URL:https://www.acg.org/wisconsin/events/2025-acg-wi-scott-lauber-ceo-
 wec-energy-group
DTSTAMP:20260422T015230Z
END:VEVENT
END:VCALENDAR
