BEGIN:VCALENDAR
VERSION:2.0
PRODID:-//ACG//Events//EN
CALSCALE:GREGORIAN
METHOD:PUBLISH
BEGIN:VTIMEZONE
TZID:America/Chicago
BEGIN:STANDARD
DTSTART:19701025T070000
TZOFFSETTO:-0600
TZOFFSETFROM:-0500
RRULE:FREQ=YEARLY;BYMONTH=11;BYDAY=1SU
END:STANDARD
BEGIN:DAYLIGHT
DTSTART:19700426T080000
TZOFFSETTO:-0500
TZOFFSETFROM:-0600
RRULE:FREQ=YEARLY;BYMONTH=3;BYDAY=2SU
END:DAYLIGHT
END:VTIMEZONE
BEGIN:VEVENT
UID:2025-ACG-WI-MARCH-MONTHLY-MEETING
DTSTART;TZID=America/Chicago:20250314T073054
DTEND;TZID=America/Chicago:20250314T091517
STATUS:CONFIRMED
SUMMARY:2025 ACG WI | Bill Berrien\, Owner & CEO\, Pindel Global Precision
DESCRIPTION:
LOCATION:Italian Community Center\n631 East Chicago Street\nMilwaukee\
 \, WI 53202
URL:https://www.acg.org/wisconsin/events/2025-acg-wi-bill-berrien-owne
 r-ceo-pindel-global-precision
DTSTAMP:20260422T081113Z
END:VEVENT
END:VCALENDAR
