BEGIN:VCALENDAR
VERSION:2.0
PRODID:-//ACG//Events//EN
CALSCALE:GREGORIAN
METHOD:PUBLISH
BEGIN:VTIMEZONE
TZID:America/New_York
BEGIN:STANDARD
DTSTART:19701025T060000
TZOFFSETTO:-0500
TZOFFSETFROM:-0400
RRULE:FREQ=YEARLY;BYMONTH=11;BYDAY=1SU
END:STANDARD
BEGIN:DAYLIGHT
DTSTART:19700426T070000
TZOFFSETTO:-0400
TZOFFSETFROM:-0500
RRULE:FREQ=YEARLY;BYMONTH=3;BYDAY=2SU
END:DAYLIGHT
END:VTIMEZONE
BEGIN:VEVENT
UID:ACG-CT-XPX-CT-JOINT-EVENT-FEBRUARY-2025
DTSTART;TZID=America/New_York:20250220T173053
DTEND;TZID=America/New_York:20250220T193010
STATUS:CONFIRMED
SUMMARY:ACG CT + XPX CT Joint Event\, February 2025
DESCRIPTION:
LOCATION:Fairfield Theatre Company\n70 Sanford Street\nFairfield\\, CT
  06824
URL:https://www.acg.org/connecticut/events/acg-ct-xpx-ct-joint-event-f
 ebruary-2025
DTSTAMP:20260422T134119Z
END:VEVENT
END:VCALENDAR
