BEGIN:VCALENDAR
VERSION:2.0
PRODID:-//ACG//Events//EN
CALSCALE:GREGORIAN
METHOD:PUBLISH
BEGIN:VTIMEZONE
TZID:America/New_York
BEGIN:STANDARD
DTSTART:19701025T060000
TZOFFSETTO:-0500
TZOFFSETFROM:-0400
RRULE:FREQ=YEARLY;BYMONTH=11;BYDAY=1SU
END:STANDARD
BEGIN:DAYLIGHT
DTSTART:19700426T070000
TZOFFSETTO:-0400
TZOFFSETFROM:-0500
RRULE:FREQ=YEARLY;BYMONTH=3;BYDAY=2SU
END:DAYLIGHT
END:VTIMEZONE
BEGIN:VEVENT
UID:ACG-CT-25TH-ANNIVERSARY-PARTY
DTSTART;TZID=America/New_York:20250520T150024
DTEND;TZID=America/New_York:20250520T200024
STATUS:CONFIRMED
SUMMARY:ACG CT 25th Anniversary Party
DESCRIPTION:
LOCATION:Valbella Greenwich\n1309 East Putnam Avenue\nGreenwich\\, CT 06878
URL:https://www.acg.org/connecticut/events/acg-ct-25th-anniversary-party
DTSTAMP:20260421T221028Z
END:VEVENT
END:VCALENDAR
