BEGIN:VCALENDAR
VERSION:2.0
PRODID:-//ACG//Events//EN
CALSCALE:GREGORIAN
METHOD:PUBLISH
BEGIN:VTIMEZONE
TZID:America/New_York
BEGIN:STANDARD
DTSTART:19701025T060000
TZOFFSETTO:-0500
TZOFFSETFROM:-0400
RRULE:FREQ=YEARLY;BYMONTH=11;BYDAY=1SU
END:STANDARD
BEGIN:DAYLIGHT
DTSTART:19700426T070000
TZOFFSETTO:-0400
TZOFFSETFROM:-0500
RRULE:FREQ=YEARLY;BYMONTH=3;BYDAY=2SU
END:DAYLIGHT
END:VTIMEZONE
BEGIN:VEVENT
UID:ANNUAL-GOLF-TENNIS-OUTING-JUNE-16-2025
DTSTART;TZID=America/New_York:20250616T110041
DTEND;TZID=America/New_York:20250616T190041
STATUS:CONFIRMED
SUMMARY:Annual Golf & Tennis Outing\, June 16\, 2025
DESCRIPTION:
LOCATION:Rockrimmon Country Club\n2949 Long Ridge Road\nStamford\\, CT
  06903
URL:https://www.acg.org/connecticut/events/annual-golf-tennis-outing-j
 une-16-2025
DTSTAMP:20260421T182000Z
END:VEVENT
END:VCALENDAR
