BEGIN:VCALENDAR
VERSION:2.0
PRODID:-//ACG//Events//EN
CALSCALE:GREGORIAN
METHOD:PUBLISH
BEGIN:VTIMEZONE
TZID:America/Los_Angeles
BEGIN:STANDARD
DTSTART:19701025T090000
TZOFFSETTO:-0800
TZOFFSETFROM:-0700
RRULE:FREQ=YEARLY;BYMONTH=11;BYDAY=1SU
END:STANDARD
BEGIN:DAYLIGHT
DTSTART:19700426T100000
TZOFFSETTO:-0700
TZOFFSETFROM:-0800
RRULE:FREQ=YEARLY;BYMONTH=3;BYDAY=2SU
END:DAYLIGHT
END:VTIMEZONE
BEGIN:VEVENT
UID:ACG-101-SEPT-5TH-YP-SIP-SWING-EVENT
DTSTART;TZID=America/Los_Angeles:20240905T163016
DTEND;TZID=America/Los_Angeles:20240905T190038
STATUS:CONFIRMED
SUMMARY:ACG 101 Sept 5th YP Sip & Swing Event
DESCRIPTION:
LOCATION:Top Golf\, El Segundo\n400 Pacific Coast Highway\nEl Segundo\
 \, CA 90245
URL:https://www.acg.org/101/events/acg-101-sept-5th-yp-sip-swing-event
DTSTAMP:20260420T160618Z
END:VEVENT
END:VCALENDAR
