BEGIN:VCALENDAR
VERSION:2.0
PRODID:-//ACG//Events//EN
CALSCALE:GREGORIAN
METHOD:PUBLISH
BEGIN:VTIMEZONE
TZID:US/Eastern
BEGIN:STANDARD
DTSTART:19701025T060000
TZOFFSETTO:-0500
TZOFFSETFROM:-0400
RRULE:FREQ=YEARLY;BYMONTH=11;BYDAY=1SU
END:STANDARD
BEGIN:DAYLIGHT
DTSTART:19700426T070000
TZOFFSETTO:-0400
TZOFFSETFROM:-0500
RRULE:FREQ=YEARLY;BYMONTH=3;BYDAY=2SU
END:DAYLIGHT
END:VTIMEZONE
BEGIN:VEVENT
UID:THE-BIG-CATCH-3RD-ANNUAL-FISHING-TOURNAMENT-PRESENTED-BY-EMERGING-
 PROFESSIONALS
DTSTART;TZID=US/Eastern:20250502T073013
DTEND;TZID=US/Eastern:20250502T140029
STATUS:CONFIRMED
SUMMARY:The Big Catch 3rd Annual Fishing Tournament\, presented by Eme
 rging Professionals
DESCRIPTION:
LOCATION:Hula Bay\n5210 West Tyson Avenue\nTampa\\, FL 33611
URL:https://www.acg.org/tampabay/events/big-catch-3rd-annual-fishing-t
 ournament-presented-emerging-professionals
DTSTAMP:20260422T020356Z
END:VEVENT
END:VCALENDAR
