BEGIN:VCALENDAR
VERSION:2.0
PRODID:-//ACG//Events//EN
CALSCALE:GREGORIAN
METHOD:PUBLISH
BEGIN:VTIMEZONE
TZID:America/New_York
BEGIN:STANDARD
DTSTART:19701025T060000
TZOFFSETTO:-0500
TZOFFSETFROM:-0400
RRULE:FREQ=YEARLY;BYMONTH=11;BYDAY=1SU
END:STANDARD
BEGIN:DAYLIGHT
DTSTART:19700426T070000
TZOFFSETTO:-0400
TZOFFSETFROM:-0500
RRULE:FREQ=YEARLY;BYMONTH=3;BYDAY=2SU
END:DAYLIGHT
END:VTIMEZONE
BEGIN:VEVENT
UID:ACG-PITTSBURGH-2025-MAY-FCL-EVENT
DTSTART;TZID=America/New_York:20250521T170040
DTEND;TZID=America/New_York:20250521T190052
STATUS:CONFIRMED
SUMMARY:ACG Pittsburgh 2025 May FCL Event
DESCRIPTION:
LOCATION:Sly Fox PGH Brewery at the Highline\n46 South 4th Street\nPit
 tsburgh\\, PA 15219
URL:https://www.acg.org/pittsburgh/events/acg-pittsburgh-2025-may-fcl-event
DTSTAMP:20260421T233653Z
END:VEVENT
END:VCALENDAR
