BEGIN:VCALENDAR
VERSION:2.0
PRODID:-//ACG//Events//EN
CALSCALE:GREGORIAN
METHOD:PUBLISH
BEGIN:VTIMEZONE
TZID:America/Los_Angeles
BEGIN:STANDARD
DTSTART:19701025T090000
TZOFFSETTO:-0800
TZOFFSETFROM:-0700
RRULE:FREQ=YEARLY;BYMONTH=11;BYDAY=1SU
END:STANDARD
BEGIN:DAYLIGHT
DTSTART:19700426T100000
TZOFFSETTO:-0700
TZOFFSETFROM:-0800
RRULE:FREQ=YEARLY;BYMONTH=3;BYDAY=2SU
END:DAYLIGHT
END:VTIMEZONE
BEGIN:VEVENT
UID:ACG-LOS-ANGELES-FROM-ANALYST-TO-PARTNER-PATHS-TO-ADVANCING-WOMEN-A
 ND-DIVERSE-LEADERS-IN-INVESTMENTS
DTSTART;TZID=America/Los_Angeles:20240912T170030
DTEND;TZID=America/Los_Angeles:20240912T200030
STATUS:CONFIRMED
SUMMARY:ACG Los Angeles | From Analyst to Partner - Paths to Advancing
  Women & Diverse Leaders in Investment and Finance
DESCRIPTION:
LOCATION:CBRE\n2000 Avenue of the Stars\nLos Angeles\\, CA 90067
URL:https://www.acg.org/los-angeles/events/acg-los-angeles-analyst-par
 tner-paths-advancing-women-diverse-leaders-investment
DTSTAMP:20260421T172744Z
END:VEVENT
END:VCALENDAR
