BEGIN:VCALENDAR
VERSION:2.0
PRODID:-//ACG//Events//EN
CALSCALE:GREGORIAN
METHOD:PUBLISH
BEGIN:VTIMEZONE
TZID:America/Detroit
BEGIN:STANDARD
DTSTART:19700101T060000
TZOFFSETTO:-0500
TZOFFSETFROM:-0500
END:STANDARD
END:VTIMEZONE
BEGIN:VEVENT
UID:140368
DTSTART;TZID=America/Detroit:20240919T180000
DTEND;TZID=America/Detroit:20240920T140000
STATUS:CONFIRMED
SUMMARY:20th Anniversary Michigan Private Equity Conference
DESCRIPTION:
LOCATION:Michigan League Ballroom \n911 N University Ave\nAnn Arbor\\,
  MI 48104
URL:https://www.acg.org/detroit/events/20th-anniversary-michigan-priva
 te-equity-conference
DTSTAMP:20260424T172512Z
END:VEVENT
END:VCALENDAR
