BEGIN:VCALENDAR
VERSION:2.0
PRODID:-//ACG//Events//EN
CALSCALE:GREGORIAN
METHOD:PUBLISH
BEGIN:VTIMEZONE
TZID:America/New_York
BEGIN:STANDARD
DTSTART:19701025T060000
TZOFFSETTO:-0500
TZOFFSETFROM:-0400
RRULE:FREQ=YEARLY;BYMONTH=11;BYDAY=1SU
END:STANDARD
BEGIN:DAYLIGHT
DTSTART:19700426T070000
TZOFFSETTO:-0400
TZOFFSETFROM:-0500
RRULE:FREQ=YEARLY;BYMONTH=3;BYDAY=2SU
END:DAYLIGHT
END:VTIMEZONE
BEGIN:VEVENT
UID:2024RIC-JANUARY-BREAKFAST-VIRGINIA-MARITIME-ASSC-WITH-DAVID-WHITE
DTSTART;TZID=America/New_York:20250124T073048
DTEND;TZID=America/New_York:20250124T090001
STATUS:CONFIRMED
SUMMARY:2025RIC-January Breakfast - Virginia Maritime Assc. with David
  White
DESCRIPTION:
LOCATION:The Jefferson Hotel - Grand Ballroom\n101 West Franklin Stree
 t\nRichmond\\, VA 23220
URL:https://www.acg.org/richmond/events/2025ric-january-breakfast-virg
 inia-maritime-assc-david-white
DTSTAMP:20260422T174205Z
END:VEVENT
END:VCALENDAR
