BEGIN:VCALENDAR
VERSION:2.0
PRODID:-//ACG//Events//EN
CALSCALE:GREGORIAN
METHOD:PUBLISH
BEGIN:VTIMEZONE
TZID:America/New_York
BEGIN:STANDARD
DTSTART:19701025T060000
TZOFFSETTO:-0500
TZOFFSETFROM:-0400
RRULE:FREQ=YEARLY;BYMONTH=11;BYDAY=1SU
END:STANDARD
BEGIN:DAYLIGHT
DTSTART:19700426T070000
TZOFFSETTO:-0400
TZOFFSETFROM:-0500
RRULE:FREQ=YEARLY;BYMONTH=3;BYDAY=2SU
END:DAYLIGHT
END:VTIMEZONE
BEGIN:VEVENT
UID:2024RIC-FEBRUARY-BREAKFAST-APEX-CLEAN-ENERGY-WITH-KEN-YOUNG
DTSTART;TZID=America/New_York:20250228T073053
DTEND;TZID=America/New_York:20250228T090053
STATUS:CONFIRMED
SUMMARY:2025RIC - February Breakfast - Apex Clean Energy with Scott Weiss
DESCRIPTION:
LOCATION:The Jefferson Hotel - Grand Ballroom\n101 West Franklin Stree
 t\nRichmond\\, VA 23220
URL:https://www.acg.org/richmond/events/2025ric-february-breakfast-ape
 x-clean-energy-scott-weiss
DTSTAMP:20260422T133903Z
END:VEVENT
END:VCALENDAR
