BEGIN:VCALENDAR
VERSION:2.0
PRODID:-//ACG//Events//EN
CALSCALE:GREGORIAN
METHOD:PUBLISH
BEGIN:VTIMEZONE
TZID:America/New_York
BEGIN:STANDARD
DTSTART:19701025T060000
TZOFFSETTO:-0500
TZOFFSETFROM:-0400
RRULE:FREQ=YEARLY;BYMONTH=11;BYDAY=1SU
END:STANDARD
BEGIN:DAYLIGHT
DTSTART:19700426T070000
TZOFFSETTO:-0400
TZOFFSETFROM:-0500
RRULE:FREQ=YEARLY;BYMONTH=3;BYDAY=2SU
END:DAYLIGHT
END:VTIMEZONE
BEGIN:VEVENT
UID:2024RIC-MARCH-BREAKFAST-SPOTLIGHT-ON-ESTES
DTSTART;TZID=America/New_York:20250321T073015
DTEND;TZID=America/New_York:20250321T090030
STATUS:CONFIRMED
SUMMARY:2025RIC - March Breakfast - Spotlight on Estes
DESCRIPTION:
LOCATION:University of Richmond - Jepson Alumni Center\n442 Westhampto
 n Way\nRichmond\\, VA 23229
URL:https://www.acg.org/richmond/events/2025ric-march-breakfast-spotli
 ght-estes
DTSTAMP:20260422T095909Z
END:VEVENT
END:VCALENDAR
