BEGIN:VCALENDAR
VERSION:2.0
PRODID:-//ACG//Events//EN
CALSCALE:GREGORIAN
METHOD:PUBLISH
BEGIN:VTIMEZONE
TZID:America/Chicago
BEGIN:STANDARD
DTSTART:19701025T070000
TZOFFSETTO:-0600
TZOFFSETFROM:-0500
RRULE:FREQ=YEARLY;BYMONTH=11;BYDAY=1SU
END:STANDARD
BEGIN:DAYLIGHT
DTSTART:19700426T080000
TZOFFSETTO:-0500
TZOFFSETFROM:-0600
RRULE:FREQ=YEARLY;BYMONTH=3;BYDAY=2SU
END:DAYLIGHT
END:VTIMEZONE
BEGIN:VEVENT
UID:140670
DTSTART;TZID=America/Chicago:20250218T113000
DTEND;TZID=America/Chicago:20250218T130000
STATUS:CONFIRMED
SUMMARY:February Luncheon: BOLD Journeys: Navigating Success Beyond th
 e Award
DESCRIPTION:
URL:https://www.acg.org/minnesota/events/february-luncheon-bold-journe
 ys-navigating-success-beyond-award
DTSTAMP:20260422T134202Z
END:VEVENT
END:VCALENDAR
