BEGIN:VCALENDAR
VERSION:2.0
PRODID:-//ACG//Events//EN
CALSCALE:GREGORIAN
METHOD:PUBLISH
BEGIN:VTIMEZONE
TZID:America/New_York
BEGIN:STANDARD
DTSTART:19701025T060000
TZOFFSETTO:-0500
TZOFFSETFROM:-0400
RRULE:FREQ=YEARLY;BYMONTH=11;BYDAY=1SU
END:STANDARD
BEGIN:DAYLIGHT
DTSTART:19700426T070000
TZOFFSETTO:-0400
TZOFFSETFROM:-0500
RRULE:FREQ=YEARLY;BYMONTH=3;BYDAY=2SU
END:DAYLIGHT
END:VTIMEZONE
BEGIN:VEVENT
UID:2024-ACG-NY-WOMEN-OF-LEADERSHIP-SERIES-DECEMBER-EDITION
DTSTART;TZID=America/New_York:20241211T113020
DTEND;TZID=America/New_York:20241211T140020
STATUS:CONFIRMED
SUMMARY:2024 ACG NY Women of Leadership Series December Edition
DESCRIPTION:
LOCATION:The Central Park Boathouse\n
URL:https://www.acg.org/nyc/events/2024-acg-ny-women-leadership-series
 -december-edition
DTSTAMP:20260420T062426Z
END:VEVENT
END:VCALENDAR
