BEGIN:VCALENDAR
VERSION:2.0
PRODID:-//ACG//Events//EN
CALSCALE:GREGORIAN
METHOD:PUBLISH
BEGIN:VTIMEZONE
TZID:America/New_York
BEGIN:STANDARD
DTSTART:19701025T060000
TZOFFSETTO:-0500
TZOFFSETFROM:-0400
RRULE:FREQ=YEARLY;BYMONTH=11;BYDAY=1SU
END:STANDARD
BEGIN:DAYLIGHT
DTSTART:19700426T070000
TZOFFSETTO:-0400
TZOFFSETFROM:-0500
RRULE:FREQ=YEARLY;BYMONTH=3;BYDAY=2SU
END:DAYLIGHT
END:VTIMEZONE
BEGIN:VEVENT
UID:2025-ACG-CIN-JOINT-EVENT-WITH-FEI-PE-UPDATE
DTSTART;TZID=America/New_York:20250312T173006
DTEND;TZID=America/New_York:20250312T180006
STATUS:CONFIRMED
SUMMARY:2025 ACG CIN JOINT EVENT WITH FEI:  PE UPDATE
DESCRIPTION:
LOCATION:Taft Center on Fountain Square\n425 Walnut Street\nCincinnati
 \\, OH 45202
URL:https://www.acg.org/cincinnati/events/2025-acg-cin-joint-event-fei
 -pe-update
DTSTAMP:20260422T095908Z
END:VEVENT
END:VCALENDAR
