BEGIN:VCALENDAR
VERSION:2.0
PRODID:-//ACG//Events//EN
CALSCALE:GREGORIAN
METHOD:PUBLISH
BEGIN:VTIMEZONE
TZID:America/New_York
BEGIN:STANDARD
DTSTART:19701025T060000
TZOFFSETTO:-0500
TZOFFSETFROM:-0400
RRULE:FREQ=YEARLY;BYMONTH=11;BYDAY=1SU
END:STANDARD
BEGIN:DAYLIGHT
DTSTART:19700426T070000
TZOFFSETTO:-0400
TZOFFSETFROM:-0500
RRULE:FREQ=YEARLY;BYMONTH=3;BYDAY=2SU
END:DAYLIGHT
END:VTIMEZONE
BEGIN:VEVENT
UID:2025-ACG-CIN-YACG-VOLUNTEER-DAY-WITH-UC-ECONOMICS-CENTER
DTSTART;TZID=America/New_York:20250505T090011
DTEND;TZID=America/New_York:20250505T120042
STATUS:CONFIRMED
SUMMARY:2025 ACG CIN YACG Volunteer Day with UC Economics Center
DESCRIPTION:
LOCATION:Fifth Third Arena on UC Campus\n2700 O'Varsity Way\nCincinnat
 i\\, OH 45219
URL:https://www.acg.org/cincinnati/events/2025-acg-cin-yacg-volunteer-
 day-uc-economics-center
DTSTAMP:20260422T020357Z
END:VEVENT
END:VCALENDAR
