BEGIN:VCALENDAR
VERSION:2.0
PRODID:-//ACG//Events//EN
CALSCALE:GREGORIAN
METHOD:PUBLISH
BEGIN:VTIMEZONE
TZID:America/New_York
BEGIN:STANDARD
DTSTART:19701025T060000
TZOFFSETTO:-0500
TZOFFSETFROM:-0400
RRULE:FREQ=YEARLY;BYMONTH=11;BYDAY=1SU
END:STANDARD
BEGIN:DAYLIGHT
DTSTART:19700426T070000
TZOFFSETTO:-0400
TZOFFSETFROM:-0500
RRULE:FREQ=YEARLY;BYMONTH=3;BYDAY=2SU
END:DAYLIGHT
END:VTIMEZONE
BEGIN:VEVENT
UID:2025_ACG_CIN_FC_CINCINNATI-_SUMMER_SOCIAL
DTSTART;TZID=America/New_York:20250731T180019
DTEND;TZID=America/New_York:20250731T220019
STATUS:CONFIRMED
SUMMARY:2025_ACG_CIN_FC_CINCINNATI _SUMMER_SOCIAL
DESCRIPTION:
LOCATION:TQL Stadium\n1501 Central Parkway\nCincinnati\\, OH 45214
URL:https://www.acg.org/cincinnati/events/2025acgcinfccincinnati-summe
 rsocial
DTSTAMP:20260423T083956Z
END:VEVENT
END:VCALENDAR
