BEGIN:VCALENDAR
VERSION:2.0
PRODID:-//ACG//Events//EN
CALSCALE:GREGORIAN
METHOD:PUBLISH
BEGIN:VTIMEZONE
TZID:America/Los_Angeles
BEGIN:STANDARD
DTSTART:19701025T090000
TZOFFSETTO:-0800
TZOFFSETFROM:-0700
RRULE:FREQ=YEARLY;BYMONTH=11;BYDAY=1SU
END:STANDARD
BEGIN:DAYLIGHT
DTSTART:19700426T100000
TZOFFSETTO:-0700
TZOFFSETFROM:-0800
RRULE:FREQ=YEARLY;BYMONTH=3;BYDAY=2SU
END:DAYLIGHT
END:VTIMEZONE
BEGIN:VEVENT
UID:141460
DTSTART;TZID=America/Los_Angeles:20250407T080000
DTEND;TZID=America/Los_Angeles:20250409T120000
STATUS:CONFIRMED
SUMMARY:DealMAX® 2025 
DESCRIPTION:
URL:https://www.acg.org/wmich/events/dealmaxr-2025
DTSTAMP:20260422T081508Z
END:VEVENT
END:VCALENDAR
