BEGIN:VCALENDAR
VERSION:2.0
PRODID:-//ACG//Events//EN
CALSCALE:GREGORIAN
METHOD:PUBLISH
BEGIN:VTIMEZONE
TZID:America/New_York
BEGIN:STANDARD
DTSTART:19701025T060000
TZOFFSETTO:-0500
TZOFFSETFROM:-0400
RRULE:FREQ=YEARLY;BYMONTH=11;BYDAY=1SU
END:STANDARD
BEGIN:DAYLIGHT
DTSTART:19700426T070000
TZOFFSETTO:-0400
TZOFFSETFROM:-0500
RRULE:FREQ=YEARLY;BYMONTH=3;BYDAY=2SU
END:DAYLIGHT
END:VTIMEZONE
BEGIN:VEVENT
UID:ACG-DETROIT-2024-KIMBLE-BELLS-NETWORKING-CHARITY-EVENT
DTSTART;TZID=America/New_York:20241204T180044
DTEND;TZID=America/New_York:20241204T203007
STATUS:CONFIRMED
SUMMARY:ACG Detroit | 2024 Kimble Bells Networking & Charity Event
DESCRIPTION:
LOCATION:Detroit Golf Club\nDetroit Golf Club\n17911 Hamilton Road\nDe
 troit\\, MI 48203
URL:https://www.acg.org/detroit/events/acg-detroit-2024-kimble-bells-n
 etworking-charity-event
DTSTAMP:20260424T000920Z
END:VEVENT
END:VCALENDAR
