BEGIN:VCALENDAR
VERSION:2.0
PRODID:-//ACG//Events//EN
CALSCALE:GREGORIAN
METHOD:PUBLISH
BEGIN:VTIMEZONE
TZID:America/Los_Angeles
BEGIN:STANDARD
DTSTART:19701025T090000
TZOFFSETTO:-0800
TZOFFSETFROM:-0700
RRULE:FREQ=YEARLY;BYMONTH=11;BYDAY=1SU
END:STANDARD
BEGIN:DAYLIGHT
DTSTART:19700426T100000
TZOFFSETTO:-0700
TZOFFSETFROM:-0800
RRULE:FREQ=YEARLY;BYMONTH=3;BYDAY=2SU
END:DAYLIGHT
END:VTIMEZONE
BEGIN:VEVENT
UID:ACG-SAN-DIEGO-CAPCON-02-12-2025
DTSTART;TZID=America/Los_Angeles:20250212T180043
DTEND;TZID=America/Los_Angeles:20250213T190006
STATUS:CONFIRMED
SUMMARY:ACG San Diego | CapCon 02.12.2025
DESCRIPTION:
LOCATION:Marriott Marquis San Diego Marina\n333 West Harbor Drive\nSan
  Diego\\, CA 92101
URL:https://www.acg.org/sandiego/events/acg-san-diego-capcon-02122025
DTSTAMP:20260422T134202Z
END:VEVENT
END:VCALENDAR
