BEGIN:VCALENDAR
VERSION:2.0
PRODID:-//ACG//Events//EN
CALSCALE:GREGORIAN
METHOD:PUBLISH
BEGIN:VTIMEZONE
TZID:America/New_York
BEGIN:STANDARD
DTSTART:19701025T060000
TZOFFSETTO:-0500
TZOFFSETFROM:-0400
RRULE:FREQ=YEARLY;BYMONTH=11;BYDAY=1SU
END:STANDARD
BEGIN:DAYLIGHT
DTSTART:19700426T070000
TZOFFSETTO:-0400
TZOFFSETFROM:-0500
RRULE:FREQ=YEARLY;BYMONTH=3;BYDAY=2SU
END:DAYLIGHT
END:VTIMEZONE
BEGIN:VEVENT
UID:2025-NEW-YEAR-NETWORKING-CELEBRATION
DTSTART;TZID=America/New_York:20250116T173006
DTEND;TZID=America/New_York:20250116T193027
STATUS:CONFIRMED
SUMMARY:2025 New Year Networking Celebration
DESCRIPTION:
LOCATION:Front Porch at The Monroe\n462 North Terry Avenue\nOrlando\\,
  FL 32801
URL:https://www.acg.org/orlando/events/2025-new-year-networking-celebration
DTSTAMP:20260422T171818Z
END:VEVENT
END:VCALENDAR
