BEGIN:VCALENDAR
VERSION:2.0
PRODID:-//ACG//Events//EN
CALSCALE:GREGORIAN
METHOD:PUBLISH
BEGIN:VTIMEZONE
TZID:America/New_York
BEGIN:STANDARD
DTSTART:19701025T060000
TZOFFSETTO:-0500
TZOFFSETFROM:-0400
RRULE:FREQ=YEARLY;BYMONTH=11;BYDAY=1SU
END:STANDARD
BEGIN:DAYLIGHT
DTSTART:19700426T070000
TZOFFSETTO:-0400
TZOFFSETFROM:-0500
RRULE:FREQ=YEARLY;BYMONTH=3;BYDAY=2SU
END:DAYLIGHT
END:VTIMEZONE
BEGIN:VEVENT
UID:2024-ACG-BOSTON-WOMEN-OF-LEADERSHIP-HOLIDAY-LUNCHEON
DTSTART;TZID=America/New_York:20241204T120031
DTEND;TZID=America/New_York:20241204T133039
STATUS:CONFIRMED
SUMMARY:2024 ACG Boston: Women of Leadership Holiday Luncheon
DESCRIPTION:
LOCATION:Offices of Sullivan & Worcester\n1 Post Office Square\nBoston
 \\, MA 02109
URL:https://www.acg.org/boston/events/2024-acg-boston-women-leadership
 -holiday-luncheon
DTSTAMP:20260424T000752Z
END:VEVENT
END:VCALENDAR
