BEGIN:VCALENDAR
VERSION:2.0
PRODID:-//ACG//Events//EN
CALSCALE:GREGORIAN
METHOD:PUBLISH
BEGIN:VTIMEZONE
TZID:America/New_York
BEGIN:STANDARD
DTSTART:19701025T060000
TZOFFSETTO:-0500
TZOFFSETFROM:-0400
RRULE:FREQ=YEARLY;BYMONTH=11;BYDAY=1SU
END:STANDARD
BEGIN:DAYLIGHT
DTSTART:19700426T070000
TZOFFSETTO:-0400
TZOFFSETFROM:-0500
RRULE:FREQ=YEARLY;BYMONTH=3;BYDAY=2SU
END:DAYLIGHT
END:VTIMEZONE
BEGIN:VEVENT
UID:YACG-SOUTH-FLORIDA-MIXER-AT-COYO-TACOS
DTSTART;TZID=America/New_York:20250318T173020
DTEND;TZID=America/New_York:20250318T193006
STATUS:CONFIRMED
SUMMARY:YACG South Florida Mixer at Coyo Tacos
DESCRIPTION:
LOCATION:Coyo Taco\n401 East Las Olas Boulevard\nFort Lauderdale\\, FL
  33301
URL:https://www.acg.org/southflorida/events/yacg-south-florida-mixer-c
 oyo-tacos
DTSTAMP:20260422T081257Z
END:VEVENT
END:VCALENDAR
