BEGIN:VCALENDAR
VERSION:2.0
PRODID:-//ACG//Events//EN
CALSCALE:GREGORIAN
METHOD:PUBLISH
BEGIN:VTIMEZONE
TZID:America/New_York
BEGIN:STANDARD
DTSTART:19701025T060000
TZOFFSETTO:-0500
TZOFFSETFROM:-0400
RRULE:FREQ=YEARLY;BYMONTH=11;BYDAY=1SU
END:STANDARD
BEGIN:DAYLIGHT
DTSTART:19700426T070000
TZOFFSETTO:-0400
TZOFFSETFROM:-0500
RRULE:FREQ=YEARLY;BYMONTH=3;BYDAY=2SU
END:DAYLIGHT
END:VTIMEZONE
BEGIN:VEVENT
UID:SARASOTA-THE-SHIFTING-ECONOMIC-OUTLOOK-AND-IMPACTS-ON-THE-M-A-MARKET
DTSTART;TZID=America/New_York:20250115T173020
DTEND;TZID=America/New_York:20250115T200041
STATUS:CONFIRMED
SUMMARY:Sarasota - The Shifting Economic Outlook and Impacts on the M&
 A Market
DESCRIPTION:
LOCATION:GROVE\n10670 Boardwalk Loop\nLakewood Ranch\\, FL 34202
URL:https://www.acg.org/tampabay/events/sarasota-shifting-economic-out
 look-and-impacts-ma-market
DTSTAMP:20260422T192343Z
END:VEVENT
END:VCALENDAR
