BEGIN:VCALENDAR
VERSION:2.0
PRODID:-//ACG//Events//EN
CALSCALE:GREGORIAN
METHOD:PUBLISH
BEGIN:VTIMEZONE
TZID:Europe/Amsterdam
BEGIN:STANDARD
DTSTART:19700101T060000
TZOFFSETTO:+0100
TZOFFSETFROM:+0100
END:STANDARD
END:VTIMEZONE
BEGIN:VEVENT
UID:141859
DTSTART;TZID=Europe/Amsterdam:20250129T154500
DTEND;TZID=Europe/Amsterdam:20250129T190000
STATUS:CONFIRMED
SUMMARY:ACG Europe Virtual DealSource
DESCRIPTION:
LOCATION:Virtual Event\n
URL:https://www.acg.org/events/acg-europe-virtual-dealsource
DTSTAMP:20260419T175507Z
END:VEVENT
END:VCALENDAR
