BEGIN:VCALENDAR
VERSION:2.0
PRODID:-//ACG//Events//EN
CALSCALE:GREGORIAN
METHOD:PUBLISH
BEGIN:VTIMEZONE
TZID:America/New_York
BEGIN:STANDARD
DTSTART:19701025T060000
TZOFFSETTO:-0500
TZOFFSETFROM:-0400
RRULE:FREQ=YEARLY;BYMONTH=11;BYDAY=1SU
END:STANDARD
BEGIN:DAYLIGHT
DTSTART:19700426T070000
TZOFFSETTO:-0400
TZOFFSETFROM:-0500
RRULE:FREQ=YEARLY;BYMONTH=3;BYDAY=2SU
END:DAYLIGHT
END:VTIMEZONE
BEGIN:VEVENT
UID:2025-NFL-VOODOO-BREW-PUB-HAPPY-HOUR
DTSTART;TZID=America/New_York:20250226T173041
DTEND;TZID=America/New_York:20250226T180041
STATUS:CONFIRMED
SUMMARY:2025 NFL VooDoo Brew Pub Happy Hour
DESCRIPTION:
LOCATION:Voodoo Brew Pub\n1974 San Marco Boulevard\nJacksonville\\, FL
  32207
URL:https://www.acg.org/northflorida/events/2025-nfl-voodoo-brew-pub-h
 appy-hour
DTSTAMP:20260422T114653Z
END:VEVENT
END:VCALENDAR
