BEGIN:VCALENDAR
VERSION:2.0
PRODID:-//ACG//Events//EN
CALSCALE:GREGORIAN
METHOD:PUBLISH
BEGIN:VTIMEZONE
TZID:America/New_York
BEGIN:STANDARD
DTSTART:19701025T060000
TZOFFSETTO:-0500
TZOFFSETFROM:-0400
RRULE:FREQ=YEARLY;BYMONTH=11;BYDAY=1SU
END:STANDARD
BEGIN:DAYLIGHT
DTSTART:19700426T070000
TZOFFSETTO:-0400
TZOFFSETFROM:-0500
RRULE:FREQ=YEARLY;BYMONTH=3;BYDAY=2SU
END:DAYLIGHT
END:VTIMEZONE
BEGIN:VEVENT
UID:ACG-NJ-BREAKFAST-MEETING-JANUARY-21-2025
DTSTART;TZID=America/New_York:20250121T080020
DTEND;TZID=America/New_York:20250121T103020
STATUS:CONFIRMED
SUMMARY:ACG NJ Breakfast Meeting | January 21\, 2025
DESCRIPTION:
LOCATION:EisnerAmper\n111 Wood Avenue\nEdison\\, NJ 08830
URL:https://www.acg.org/newjersey/events/acg-nj-breakfast-meeting-janu
 ary-21-2025
DTSTAMP:20260422T180112Z
END:VEVENT
END:VCALENDAR
