BEGIN:VCALENDAR
VERSION:2.0
PRODID:-//ACG//Events//EN
CALSCALE:GREGORIAN
METHOD:PUBLISH
BEGIN:VTIMEZONE
TZID:America/New_York
BEGIN:STANDARD
DTSTART:19701025T060000
TZOFFSETTO:-0500
TZOFFSETFROM:-0400
RRULE:FREQ=YEARLY;BYMONTH=11;BYDAY=1SU
END:STANDARD
BEGIN:DAYLIGHT
DTSTART:19700426T070000
TZOFFSETTO:-0400
TZOFFSETFROM:-0500
RRULE:FREQ=YEARLY;BYMONTH=3;BYDAY=2SU
END:DAYLIGHT
END:VTIMEZONE
BEGIN:VEVENT
UID:ACG-NJ-BREAKFAST-MEETING-JUNE-17-2025
DTSTART;TZID=America/New_York:20250617T080034
DTEND;TZID=America/New_York:20250617T103051
STATUS:CONFIRMED
SUMMARY:ACG NJ Breakfast Meeting | June 17\, 2025
DESCRIPTION:
LOCATION:EisnerAmper Offices\n111 South Wood Avenue\nWoodbridge Townsh
 ip\\, NJ 08830
URL:https://www.acg.org/newjersey/events/acg-nj-breakfast-meeting-june
 -17-2025
DTSTAMP:20260421T181913Z
END:VEVENT
END:VCALENDAR
