BEGIN:VCALENDAR
VERSION:2.0
PRODID:-//ACG//Events//EN
CALSCALE:GREGORIAN
METHOD:PUBLISH
BEGIN:VTIMEZONE
TZID:America/New_York
BEGIN:STANDARD
DTSTART:19701025T060000
TZOFFSETTO:-0500
TZOFFSETFROM:-0400
RRULE:FREQ=YEARLY;BYMONTH=11;BYDAY=1SU
END:STANDARD
BEGIN:DAYLIGHT
DTSTART:19700426T070000
TZOFFSETTO:-0400
TZOFFSETFROM:-0500
RRULE:FREQ=YEARLY;BYMONTH=3;BYDAY=2SU
END:DAYLIGHT
END:VTIMEZONE
BEGIN:VEVENT
UID:ACG-NJ-BREAKFAST-MEETING-APRIL-15-2025
DTSTART;TZID=America/New_York:20250415T080047
DTEND;TZID=America/New_York:20250415T103057
STATUS:CONFIRMED
SUMMARY:ACG NJ Breakfast Meeting | April 15\, 2025
DESCRIPTION:
LOCATION:Galloping Hill Golf Course\n3 Golf Drive\nKenilworth\\, NJ 07033
URL:https://www.acg.org/newjersey/events/acg-nj-breakfast-meeting-apri
 l-15-2025
DTSTAMP:20260422T060356Z
END:VEVENT
END:VCALENDAR
