BEGIN:VCALENDAR
VERSION:2.0
PRODID:-//ACG//Events//EN
CALSCALE:GREGORIAN
METHOD:PUBLISH
BEGIN:VTIMEZONE
TZID:America/New_York
BEGIN:STANDARD
DTSTART:19701025T060000
TZOFFSETTO:-0500
TZOFFSETFROM:-0400
RRULE:FREQ=YEARLY;BYMONTH=11;BYDAY=1SU
END:STANDARD
BEGIN:DAYLIGHT
DTSTART:19700426T070000
TZOFFSETTO:-0400
TZOFFSETFROM:-0500
RRULE:FREQ=YEARLY;BYMONTH=3;BYDAY=2SU
END:DAYLIGHT
END:VTIMEZONE
BEGIN:VEVENT
UID:ACG-ATLANTA-DEALSOURCE-2025
DTSTART;TZID=America/New_York:20250910T110048
DTEND;TZID=America/New_York:20250910T220048
STATUS:CONFIRMED
SUMMARY:2025 ACG Atlanta DealSource
DESCRIPTION:
LOCATION:Minolta Conference Center and Hank Aaron Terrace\n755 Battery
  Avenue Southeast\nAtlanta\\, GA 30339
URL:https://www.acg.org/atlanta/events/2025-acg-atlanta-dealsource
DTSTAMP:20260421T070646Z
END:VEVENT
END:VCALENDAR
