BEGIN:VCALENDAR
VERSION:2.0
PRODID:-//ACG//Events//EN
CALSCALE:GREGORIAN
METHOD:PUBLISH
BEGIN:VTIMEZONE
TZID:America/New_York
BEGIN:STANDARD
DTSTART:19701025T060000
TZOFFSETTO:-0500
TZOFFSETFROM:-0400
RRULE:FREQ=YEARLY;BYMONTH=11;BYDAY=1SU
END:STANDARD
BEGIN:DAYLIGHT
DTSTART:19700426T070000
TZOFFSETTO:-0400
TZOFFSETFROM:-0500
RRULE:FREQ=YEARLY;BYMONTH=3;BYDAY=2SU
END:DAYLIGHT
END:VTIMEZONE
BEGIN:VEVENT
UID:YACG-SOUTH-FLORIDA-LUNCHEON
DTSTART;TZID=America/New_York:20250611T114531
DTEND;TZID=America/New_York:20250611T134559
STATUS:CONFIRMED
SUMMARY:YACG South Florida Presents:  A Discussion with David McCombie
  on his Career Path and the Human Side of M&A
DESCRIPTION:
LOCATION:The Main Las Olas Building -  10th Floor\n201 East Las Olas B
 oulevard\nFort Lauderdale\\, FL 33301
URL:https://www.acg.org/southflorida/events/yacg-south-florida-present
 s-discussion-david-mccombie-his-career-path-and-human
DTSTAMP:20260421T201827Z
END:VEVENT
END:VCALENDAR
