BEGIN:VCALENDAR
VERSION:2.0
PRODID:-//ACG//Events//EN
CALSCALE:GREGORIAN
METHOD:PUBLISH
BEGIN:VTIMEZONE
TZID:America/New_York
BEGIN:STANDARD
DTSTART:19701025T060000
TZOFFSETTO:-0500
TZOFFSETFROM:-0400
RRULE:FREQ=YEARLY;BYMONTH=11;BYDAY=1SU
END:STANDARD
BEGIN:DAYLIGHT
DTSTART:19700426T070000
TZOFFSETTO:-0400
TZOFFSETFROM:-0500
RRULE:FREQ=YEARLY;BYMONTH=3;BYDAY=2SU
END:DAYLIGHT
END:VTIMEZONE
BEGIN:VEVENT
UID:2025-ACG-SOUTH-FLORIDA-CHRISTMAS-IN-JULY-CASINO-ROYALE-MIXER
DTSTART;TZID=America/New_York:20250723T173019
DTEND;TZID=America/New_York:20250723T193019
STATUS:CONFIRMED
SUMMARY:2025 ACG South Florida Top 100 Reception at Pier 66
DESCRIPTION:
LOCATION:Pier Top at Pier Sixty-Six\n2301 Southeast 17th Street\nFort 
 Lauderdale\\, FL 33316
URL:https://www.acg.org/southflorida/events/2025-acg-south-florida-top
 -100-reception-pier-66
DTSTAMP:20260420T170038Z
END:VEVENT
END:VCALENDAR
