BEGIN:VCALENDAR
VERSION:2.0
PRODID:-//ACG//Events//EN
CALSCALE:GREGORIAN
METHOD:PUBLISH
BEGIN:VTIMEZONE
TZID:America/Vancouver
BEGIN:STANDARD
DTSTART:19701025T090000
TZOFFSETTO:-0800
TZOFFSETFROM:-0700
RRULE:FREQ=YEARLY;BYMONTH=11;BYDAY=1SU
END:STANDARD
BEGIN:DAYLIGHT
DTSTART:19700426T100000
TZOFFSETTO:-0700
TZOFFSETFROM:-0800
RRULE:FREQ=YEARLY;BYMONTH=3;BYDAY=2SU
END:DAYLIGHT
END:VTIMEZONE
BEGIN:VEVENT
UID:141949
DTSTART;TZID=America/Vancouver:20250212T173000
DTEND;TZID=America/Vancouver:20250212T220000
STATUS:CONFIRMED
SUMMARY:ACG BC 2024 Dealmakers of the Year Awards
DESCRIPTION:
LOCATION:Terminal City Club\n837 W Hastings street\nVancouver\\, BC V6C 1B6
URL:https://www.acg.org/bc/events/acg-bc-2024-dealmakers-year-awards
DTSTAMP:20260422T134021Z
END:VEVENT
END:VCALENDAR
