BEGIN:VCALENDAR
VERSION:2.0
PRODID:-//ACG//Events//EN
CALSCALE:GREGORIAN
METHOD:PUBLISH
BEGIN:VTIMEZONE
TZID:America/New_York
BEGIN:STANDARD
DTSTART:19701025T060000
TZOFFSETTO:-0500
TZOFFSETFROM:-0400
RRULE:FREQ=YEARLY;BYMONTH=11;BYDAY=1SU
END:STANDARD
BEGIN:DAYLIGHT
DTSTART:19700426T070000
TZOFFSETTO:-0400
TZOFFSETFROM:-0500
RRULE:FREQ=YEARLY;BYMONTH=3;BYDAY=2SU
END:DAYLIGHT
END:VTIMEZONE
BEGIN:VEVENT
UID:2025-ANNUAL-PUB-CRAWL
DTSTART;TZID=America/New_York:20250326T163005
DTEND;TZID=America/New_York:20250326T200005
STATUS:CONFIRMED
SUMMARY:2025 Annual Pub Crawl
DESCRIPTION:
LOCATION:Hattricks\n107 South Franklin Street\nTampa\\, FL 33602
URL:https://www.acg.org/tampabay/events/2025-annual-pub-crawl
DTSTAMP:20260422T060831Z
END:VEVENT
END:VCALENDAR
