BEGIN:VCALENDAR
VERSION:2.0
PRODID:-//ACG//Events//EN
CALSCALE:GREGORIAN
METHOD:PUBLISH
BEGIN:VTIMEZONE
TZID:America/Los_Angeles
BEGIN:STANDARD
DTSTART:19701025T090000
TZOFFSETTO:-0800
TZOFFSETFROM:-0700
RRULE:FREQ=YEARLY;BYMONTH=11;BYDAY=1SU
END:STANDARD
BEGIN:DAYLIGHT
DTSTART:19700426T100000
TZOFFSETTO:-0700
TZOFFSETFROM:-0800
RRULE:FREQ=YEARLY;BYMONTH=3;BYDAY=2SU
END:DAYLIGHT
END:VTIMEZONE
BEGIN:VEVENT
UID:2024-ACGOC-NEW-MEMBER-HAPPY-HOUR
DTSTART;TZID=America/Los_Angeles:20250211T170014
DTEND;TZID=America/Los_Angeles:20250211T183014
STATUS:CONFIRMED
SUMMARY:2024 ACGOC New Member Happy Hour 02.11.25
DESCRIPTION:
LOCATION:Classic Q\n4251 Macarthur Boulevard\nNewport Beach\\, CA 92660
URL:https://www.acg.org/occ/events/2024-acgoc-new-member-happy-hour-021125
DTSTAMP:20260422T134015Z
END:VEVENT
END:VCALENDAR
